BEGIN:VCALENDAR
VERSION:2.0
PRODID:-//Olde Town Pub - ECPv6.15.20//NONSGML v1.0//EN
CALSCALE:GREGORIAN
METHOD:PUBLISH
X-ORIGINAL-URL:https://oldetownpub.com
X-WR-CALDESC:Events for Olde Town Pub
REFRESH-INTERVAL;VALUE=DURATION:PT1H
X-Robots-Tag:noindex
X-PUBLISHED-TTL:PT1H
BEGIN:VTIMEZONE
TZID:America/New_York
BEGIN:DAYLIGHT
TZOFFSETFROM:-0500
TZOFFSETTO:-0400
TZNAME:EDT
DTSTART:20250309T070000
END:DAYLIGHT
BEGIN:STANDARD
TZOFFSETFROM:-0400
TZOFFSETTO:-0500
TZNAME:EST
DTSTART:20251102T060000
END:STANDARD
BEGIN:DAYLIGHT
TZOFFSETFROM:-0500
TZOFFSETTO:-0400
TZNAME:EDT
DTSTART:20260308T070000
END:DAYLIGHT
BEGIN:STANDARD
TZOFFSETFROM:-0400
TZOFFSETTO:-0500
TZNAME:EST
DTSTART:20261101T060000
END:STANDARD
BEGIN:DAYLIGHT
TZOFFSETFROM:-0500
TZOFFSETTO:-0400
TZNAME:EDT
DTSTART:20270314T070000
END:DAYLIGHT
BEGIN:STANDARD
TZOFFSETFROM:-0400
TZOFFSETTO:-0500
TZNAME:EST
DTSTART:20271107T060000
END:STANDARD
END:VTIMEZONE
BEGIN:VEVENT
DTSTART;TZID=America/New_York:20260423T110000
DTEND;TZID=America/New_York:20260423T130000
DTSTAMP:20260423T045146
CREATED:20260421T003711Z
LAST-MODIFIED:20260421T003711Z
UID:8359-1776942000-1776949200@oldetownpub.com
SUMMARY:Wing Wagon @ PAX NAS (bldg 2187)
DESCRIPTION:
URL:https://oldetownpub.com/event/wing-wagon-pax-nas-bldg-2187-11/
CATEGORIES:Wing Wagon
END:VEVENT
BEGIN:VEVENT
DTSTART;TZID=America/New_York:20260423T170000
DTEND;TZID=America/New_York:20260423T200000
DTSTAMP:20260423T045146
CREATED:20260421T003749Z
LAST-MODIFIED:20260421T003749Z
UID:8361-1776963600-1776974400@oldetownpub.com
SUMMARY:Wing Wagon @ 5th District Park
DESCRIPTION:
URL:https://oldetownpub.com/event/wing-wagon-5th-district-park-2/
CATEGORIES:Wing Wagon
END:VEVENT
BEGIN:VEVENT
DTSTART;TZID=America/New_York:20260425T103000
DTEND;TZID=America/New_York:20260425T140000
DTSTAMP:20260423T045146
CREATED:20260421T003829Z
LAST-MODIFIED:20260421T003829Z
UID:8363-1777113000-1777125600@oldetownpub.com
SUMMARY:Wing Wagon @ Patuxent High School
DESCRIPTION:
URL:https://oldetownpub.com/event/wing-wagon-patuxent-high-school-2/
CATEGORIES:Wing Wagon
END:VEVENT
BEGIN:VEVENT
DTSTART;TZID=America/New_York:20260426T123000
DTEND;TZID=America/New_York:20260426T170000
DTSTAMP:20260423T045146
CREATED:20260421T003902Z
LAST-MODIFIED:20260421T003902Z
UID:8365-1777206600-1777222800@oldetownpub.com
SUMMARY:Wing Wagon @ Solomons VFD
DESCRIPTION:
URL:https://oldetownpub.com/event/wing-wagon-solomons-vfd/
CATEGORIES:Wing Wagon
END:VEVENT
BEGIN:VEVENT
DTSTART;TZID=America/New_York:20260427T110000
DTEND;TZID=America/New_York:20260427T130000
DTSTAMP:20260423T045146
CREATED:20260421T004005Z
LAST-MODIFIED:20260421T004005Z
UID:8367-1777287600-1777294800@oldetownpub.com
SUMMARY:Wing Wagon @ PAX NAS (bldg 2187)
DESCRIPTION:
URL:https://oldetownpub.com/event/wing-wagon-pax-nas-bldg-2187-12/
CATEGORIES:Wing Wagon
END:VEVENT
BEGIN:VEVENT
DTSTART;TZID=America/New_York:20260428T103000
DTEND;TZID=America/New_York:20260428T123000
DTSTAMP:20260423T045146
CREATED:20260421T004047Z
LAST-MODIFIED:20260421T004047Z
UID:8369-1777372200-1777379400@oldetownpub.com
SUMMARY:Wing Wagon @ Webster Field
DESCRIPTION:
URL:https://oldetownpub.com/event/wing-wagon-webster-field-24/
CATEGORIES:Wing Wagon
END:VEVENT
BEGIN:VEVENT
DTSTART;TZID=America/New_York:20260429T110000
DTEND;TZID=America/New_York:20260429T130000
DTSTAMP:20260423T045146
CREATED:20260421T004136Z
LAST-MODIFIED:20260421T004136Z
UID:8371-1777460400-1777467600@oldetownpub.com
SUMMARY:Wing Wagon @ PAX NAS (F-35 area)
DESCRIPTION:
URL:https://oldetownpub.com/event/wing-wagon-pax-nas-f-35-area-25/
CATEGORIES:Wing Wagon
END:VEVENT
BEGIN:VEVENT
DTSTART;TZID=America/New_York:20260430T110000
DTEND;TZID=America/New_York:20260430T130000
DTSTAMP:20260423T045146
CREATED:20260421T004610Z
LAST-MODIFIED:20260421T004610Z
UID:8373-1777546800-1777554000@oldetownpub.com
SUMMARY:Wing Wagon @ PAX NAS (bldg 2187)
DESCRIPTION:
URL:https://oldetownpub.com/event/wing-wagon-pax-nas-bldg-2187-13/
CATEGORIES:Wing Wagon
END:VEVENT
BEGIN:VEVENT
DTSTART;TZID=America/New_York:20260501T110000
DTEND;TZID=America/New_York:20260501T130000
DTSTAMP:20260423T045146
CREATED:20260421T004650Z
LAST-MODIFIED:20260421T004650Z
UID:8375-1777633200-1777640400@oldetownpub.com
SUMMARY:Wing Wagon @ Platform Systems
DESCRIPTION:
URL:https://oldetownpub.com/event/wing-wagon-platform-systems-3/
CATEGORIES:Wing Wagon
END:VEVENT
BEGIN:VEVENT
DTSTART;TZID=America/New_York:20260502T103000
DTEND;TZID=America/New_York:20260502T170000
DTSTAMP:20260423T045146
CREATED:20260421T004735Z
LAST-MODIFIED:20260421T004735Z
UID:8377-1777717800-1777741200@oldetownpub.com
SUMMARY:Wing Wagon @ St. Mary's College
DESCRIPTION:
URL:https://oldetownpub.com/event/wing-wagon-st-marys-college/
CATEGORIES:Wing Wagon
END:VEVENT
END:VCALENDAR